BEGIN:VCALENDAR
VERSION:2.0
PRODID:icalendar-ruby
CALSCALE:GREGORIAN
METHOD:PUBLISH
BEGIN:VEVENT
DTSTAMP:20260419T125637Z
UID:25-1187068@siliconvalleycsl.com
DTSTART:20260426T163000Z
DTEND:20260427T045000Z
CLASS:PUBLIC
CREATED:20260416T202504
DESCRIPTION:Join us for a lighthearted and uplifting start to your Sunday w
 ith Laughter Yoga\, led by Morganne Maher.\nWe’ll begin with 10 minutes 
 of guided laughter exercises—designed to open the body\, release tension
 \, and spark joy—followed by 10 minutes of meditation to ground and cent
 er.\nLaughter Yoga is a simple yet powerful practice that supports well-be
 ing\, connection\, and presence… and yes\, it’s as fun as it sounds.\n
 Laughter Yoga takes place every 4th Sunday of the month—come ready to la
 ugh\, breathe\, and begin your day in joy.
LAST-MODIFIED:20260416T202504
LOCATION:Campbell UCC - Nelson Hall
SUMMARY:Laughter Yoga
URL;VALUE=URI:https://www.siliconvalleycsl.com/events/laughter-yoga/2026-04
 -26
END:VEVENT
END:VCALENDAR
