BEGIN:VCALENDAR
VERSION:2.0
PRODID:icalendar-ruby
CALSCALE:GREGORIAN
METHOD:PUBLISH
BEGIN:VEVENT
DTSTAMP:20260424T225139Z
UID:9-1193551@siliconvalleycsl.com
DTSTART:20260927T170000Z
DTEND:20260927T180000Z
CLASS:PUBLIC
CREATED:20260424T135847
DESCRIPTION:The Sunday Gathering at Silicon Valley CSL is a joyous and hear
 tfelt experience of dynamic music\, inspiring message\, powerful prayer\, 
 and a sacred celebration of the Divine.\nRev. Rasheryl McCreary\, our Spir
 itual Director\, provides practical wisdom\, powerful coaching\, and spiri
 tual tools for everyday living. 
LAST-MODIFIED:20260424T135847
LOCATION:Campbell UCC in Nelson Hall | 400 W. Campbell Ave | Campbell\, CA 
 95008
SUMMARY:Sunday Gathering
URL;VALUE=URI:https://www.siliconvalleycsl.com/events/sunday-gathering/2026
 -09-27
END:VEVENT
END:VCALENDAR
