BEGIN:VCALENDAR
VERSION:2.0
PRODID:icalendar-ruby
CALSCALE:GREGORIAN
METHOD:PUBLISH
BEGIN:VEVENT
DTSTAMP:20260425T003332Z
UID:9-1193697@siliconvalleycsl.com
DTSTART:20261004T170000Z
DTEND:20261004T180000Z
CLASS:PUBLIC
CREATED:20260424T164640
DESCRIPTION:The Sunday Gathering at Silicon Valley CSL is a joyous and hear
 tfelt experience of dynamic music\, inspiring message\, powerful prayer\, 
 and a sacred celebration of the Divine.\nRev. Rasheryl McCreary\, our Spir
 itual Director\, provides practical wisdom\, powerful coaching\, and spiri
 tual tools for everyday living. 
LAST-MODIFIED:20260424T164640
LOCATION:Campbell UCC in Nelson Hall | 400 W. Campbell Ave | Campbell\, CA 
 95008
SUMMARY:Sunday Gathering
URL;VALUE=URI:https://www.siliconvalleycsl.com/events/sunday-gathering/2026
 -10-04
END:VEVENT
END:VCALENDAR
